Workbook
Name \a: '③印刷(Ｓ，Ｄともｼｰﾄﾞあり)'!$HW$8091
Name \a: '④印刷(Ｓあり，Ｄなし)'!$HW$8106
Name \a: '⑤印刷(Ｓなし，Ｄあり）'!$HT$8108
Name \a: '②印刷(Ｓ，Ｄともシードなし）'!$HT$8109
Name \s: '③印刷(Ｓ，Ｄともｼｰﾄﾞあり)'!$HW$8091
Name \s: '④印刷(Ｓあり，Ｄなし)'!$HW$8106
Name \s: '⑤印刷(Ｓなし，Ｄあり）'!$HT$8108
Name \s: '②印刷(Ｓ，Ｄともシードなし）'!$HT$8109
Name \x: '③印刷(Ｓ，Ｄともｼｰﾄﾞあり)'!$G$3
Name \x: '④印刷(Ｓあり，Ｄなし)'!$G$3
Name \x: '⑤印刷(Ｓなし，Ｄあり）'!$G$3
Name \x: '②印刷(Ｓ，Ｄともシードなし）'!$G$3
Name \z: '③印刷(Ｓ，Ｄともｼｰﾄﾞあり)'!#REF!
Name \z: '④印刷(Ｓあり，Ｄなし)'!#REF!
Name \z: '⑤印刷(Ｓなし，Ｄあり）'!#REF!
Name \z: '[1]②印刷(Ｓ，Ｄともシードなし）'!#REF!
Name \z: '②印刷(Ｓ，Ｄともシードなし）'!#REF!
Name Print_Area_MI: '②印刷(Ｓ，Ｄともシードなし）'!$B$1:$P$44
Name Print_Area_MI: '③印刷(Ｓ，Ｄともｼｰﾄﾞあり)'!$B$1:$S$44
Name Print_Area_MI: '④印刷(Ｓあり，Ｄなし)'!$B$1:$S$43
Name Print_Area_MI: '⑤印刷(Ｓなし，Ｄあり）'!$B$1:$P$43

Sheet 説明
D1: ☆このファイルは、次の７枚のシートで構成されています。
D3: 1 | E3: 「説明」
D4: 2 | E4: 「①データの入力」
D5: 3 | E5: 「②印刷（Ｓ，Ｄともシードなし）」
D6: 4 | E6: 「③印刷（Ｓ，Ｄシードあり）」
D7: 5 | E7: 「④印刷（Ｓあり，Ｄなし）」
D8: 6 | E8: 「⑤印刷（Ｓなし，Ｄあり）」
D9: 7 | E9: 「事務局用」 | H9: ←事務局処理用ですので、入力しないでください。
D12: ☆申し込み手続きの手順
D13: 1 | E13: 「①データの入力」に必要事項を入力してください。
E14: ダブルス・シングルスについては、シード関係校とそれ以外の学校では、入力する表が違いますので気をつけてください。
D15: 2 | E15: ②～⑤の中から該当するシートを選んでください。
E16: 違うシートを選んだ場合、入力場所を間違った場合は空欄ができてしまいます。間違いがないか確認をしてください。
D17: 3 | E17: 選んだシートをプリントアウトしてください。印刷設定は「A４縦置き」になっております。
D18: 4 | E18: プリントアウト後は原稿をもう一度確認し、間違いがなければ公印・顧問印を押してください。
D19: 5 | E19: ファイル名は「学校番号R8総体申込（学校名）女子」と修正して、ExcelおよびPDF（押印済）の両方を下記アドレス宛にメール添付して送信してください。
D20: 6 | E20: 原本は第２回顧問会議または春季総体当日に事務局に提出してください。
E21: 卓球専門部 ﾒｰﾙｱﾄﾞﾚｽ takkyu@koshi-h.ed.jp
D24: シングルスシード選手（◎を付して申し込む） | H24: シングルス準シード選手（○を付して申し込む。辞退する際は×を付す。）
D25: 1 | E25: 森國穂乃花（福井商業） | H25: 宇野愛梨（武生） | J25: 鈴木綾乃（高志）
D26: 2 | E26: 武田楓羽（福井商業） | H26: 木下紗英（福井商業）
D27: 3 | E27: 杉本心麗（福井商業） | H27: 寺本妃那（武生）
D28: 3 | E28: 山田梨湖（福井商業） | H28: 宮崎智花（大野）
D29: 5 | E29: 堀本笑那（福井商業） | H29: 前田もな（敦賀）
D30: 5 | E30: 清明奈央（武生） | H30: 小林蒼生（敦賀）
D31: 5 | E31: 杉本來心（福井商業） | H31: 上村明日香（敦賀）
D32: 5 | E32: 濵﨑里見（敦賀） | H32: 吉村日香梨（福井商業）
H33: このほかにも各校１名、準シード選手として○を付すことが可能です。
D34: ダブルスシード選手（◎を付して申し込む）
D35: 1 | E35: 森國・杉本（福井商業）
D36: 2 | E36: 吉村・武田（福井商業）
D37: 3 | E37: 木村・大野（美方）
D38: 3 | E38: 硲・山田（福井商業）

Sheet ①データの入力
E3: このシートに入力すると自動的に，②，③，④，⑤のシート（参加申込書）にデータが入ります。
E4: 入力後，間違いがないか確認して，参加申込書のシートをﾌﾟﾘﾝﾄｱｳﾄして事務局宛お送り下さい。
E5: 「②のシートは，Ｓ，Ｄともにシード選手のいない学校」， 「③のシートはＳ，Ｄともにシード選手のいる学校」，
E6: 「④のシートは，Ｓはシード選手がいて、Ｄはシード選手がいない学校」，
E7: 「⑤のシートは，Ｄはシード選手がいて、Ｓはシード選手がいない学校」です。４つのうちいずれか選んで印刷して下さい。
E8: 参加申込書は，Ａ４縦で印刷できるように設定してあります。 ※ Ｓ：シングルス Ｄ：ダブルス
A10: 学校名一覧表
A11: 学校番号 | B11: 学校名
A12: 301 | B12: 三国 | C12: 女子の入力
A13: 302 | B13: 金津 | D13: 学校番号(左表参照) | K13: ←左表の学校番号を入力すると学校名が表示されます。
A14: 303 | B14: 丸岡 | D14: 学校名 | I14: =VLOOKUP(I13,A12:B52,2) -> #N/A | J14: 高等学校 | K14: ←プログラムには、この学校名で掲載されます。
A15: 304 | B15: 坂井 | D15: 校長氏名 | K15: 変更を希望する場合は左端の学校名一覧表を訂正して下さい
A16: 305 | B16: 春江工業 | D16: 顧問氏名
A17: 306 | B17: 大野
A18: 307 | B18: 奥越明成
A19: 308 | B19: 勝山 | C19: １．学校対抗 | K19: ↓平成３年５月１日生の場合の入力例
A20: 309 | B20: 予備1 | I20: 全角 | J20: 全角 | L20: 半角 | N20: 半角
A21: 310 | B21: 藤島 | I21: 氏名（フルネームで） | J21: ふりがな | K21: 生年月日 | N21: 学年
A22: 311 | B22: 高志 | D22: 入力例 | I22: 高志 太郎 | J22: こしたろう | K22: 3 | L22: 5 | M22: 1 | N22: 1
A23: 312 | B23: 羽水 | D23: 監 督
A24: 313 | B24: 足羽 | D24: 選手 １
A25: 314 | B25: 福井農林 | D25: 選手 ２
A26: 315 | B26: 科学技術 | D26: 選手 ３
A27: 316 | B27: 福井商業 | D27: 選手 ４
A28: 317 | B28: 鯖江 | D28: 選手 ５
A29: 318 | B29: 丹南 | D29: 選手 ６
A30: 319 | B30: 丹生 | D30: 選手 ７
A31: 320 | B31: 武生 | I31: ４文字以下の場合は姓と名の間にｽﾍﾟｰｽを入れてください
A32: 321 | B32: 予備2
A33: 322 | B33: 武生東
A34: 323 | B34: 武生工業 | F34: 以下の入力では，コピー可ですが，その場合には、
A35: 324 | B35: 武生商工 | F35: 必ず「形式を選択して貼り付け」で「値」貼り付けをしてください
A36: 325 | B36: 敦賀
A37: 326 | B37: 敦賀工業
A38: 327 | B38: 美方 | C38: ２．ダブルス | I38: ←シードペアのいない学校のみ入力してください
A39: 328 | B39: 若狭
A40: 329 | B40: 若狭東 | I40: 全角 | J40: 全角 | L40: 半角 | N40: 半角
A41: 330 | B41: 予備3 | D41: ゾーン | I41: 氏名学年（学年は半角） | J41: ふりがな | K41: 生年月日 | N41: 学年
A42: 331 | B42: 福井高専 | D42: ＡまたはＢ | O42: 学年は氏名に続き半角で
A43: 332 | B43: 仁愛女子 | O43: 例：高志太郎3
...

Sheet ②印刷(Ｓ，Ｄともシードなし）
B1: 令和８年度春季高等学校総合体育大会卓球競技参加申込書
B3: =①データの入力!I13 -> 0 | L3: 校長 氏名 | M3: =①データの入力!I15 -> 0 | Q3: 印
B4: 学校名 | D4: =①データの入力!I14 -> #N/A | E4: 高等学校
L5: 顧問 氏名 | M5: =①データの入力!I16 -> 0 | Q5: 印
B7: 女 子
B9: １．学校対抗
D10: 選手氏名（ふりがな） | E10: 生年月日 | H10: 学年 | L10: 選手氏名（ふりがな） | M10: 生年月日 | P10: 学年
B11: 監督 | D11: =①データの入力!J23 -> 0 | E11: =①データの入力!K23 -> 0 | F11: =①データの入力!L23 -> 0 | G11: =①データの入力!M23 -> 0 | I11: ４ | L11: =①データの入力!J27 -> 0 | M11: =①データの入力!K27 -> 0 | N11: =①データの入力!L27 -> 0 | O11: =①データの入力!M27 -> 0 | P11: =①データの入力!N27 -> 0
D12: =①データの入力!I23 -> 0 | L12: =①データの入力!I27 -> 0
B13: １ | D13: =①データの入力!J24 -> 0 | E13: =①データの入力!K24 -> 0 | F13: =①データの入力!L24 -> 0 | G13: =①データの入力!M24 -> 0 | H13: =①データの入力!N24 -> 0 | I13: ５ | L13: =①データの入力!J28 -> 0 | M13: =①データの入力!K28 -> 0 | N13: =①データの入力!L28 -> 0 | O13: =①データの入力!M28 -> 0 | P13: =①データの入力!N28 -> 0
D14: =①データの入力!I24 -> 0 | L14: =①データの入力!I28 -> 0
B15: ２ | D15: =①データの入力!J25 -> 0 | E15: =①データの入力!K25 -> 0 | F15: =①データの入力!L25 -> 0 | G15: =①データの入力!M25 -> 0 | H15: =①データの入力!N25 -> 0 | I15: ６ | L15: =①データの入力!J29 -> 0 | M15: =①データの入力!K29 -> 0 | N15: =①データの入力!L29 -> 0 | O15: =①データの入力!M29 -> 0 | P15: =①データの入力!N29 -> 0
D16: =①データの入力!I25 -> 0 | L16: =①データの入力!I29 -> 0
B17: ３ | D17: =①データの入力!J26 -> 0 | E17: =①データの入力!K26 -> 0 | F17: =①データの入力!L26 -> 0 | G17: =①データの入力!M26 -> 0 | H17: =①データの入力!N26 -> 0 | I17: ７ | L17: =①データの入力!J30 -> 0 | M17: =①データの入力!K30 -> 0 | N17: =①データの入力!L30 -> 0 | O17: =①データの入力!M30 -> 0 | P17: =①データの入力!N30 -> 0
D18: =①データの入力!I26 -> 0 | L18: =①データの入力!I30 -> 0
B20: ２．ダブルス | J20: ３．シングルス
B21: ゾーン | D21: 選手氏名（ふりがな） | E21: 生年月日 | H21: 学年 | J21: ゾーン | K21: ○ | L21: 選手氏名（ふりがな） | M21: 生年月日 | P21: 学年
B22: ＡまたはＢ | D22: =①データの入力!J42 -> 0 | E22: =①データの入力!K42 -> 0 | F22: =①データの入力!L42 -> 0 | G22: =①データの入力!M42 -> 0 | H22: =①データの入力!N42 -> 0 | K22: =①データの入力!H78 -> 0 | L22: =①データの入力!J78 -> 0 | M22: =①データの入力!K78 -> 0 | N22: =①データの入力!L78 -> 0 | O22: =①データの入力!M78 -> 0 | P22: =①データの入力!N78 -> 0
D23: =①データの入力!I42 -> 0 | K23: =①データの入力!I80 -> 0 | L23: =①データの入力!I78 -> 0
D24: =①データの入力!J43 -> 0 | E24: =①データの入力!K43 -> 0 | F24: =①データの入力!L43 -> 0 | G24: =①データの入力!M43 -> 0 | H24: =①データの入力!N43 -> 0 | K24: =①データの入力!H79 -> 0 | L24: =①データの入力!J79 -> 0 | M24: =①データの入力!K79 -> 0 | N24: =①データの入力!L79 -> 0 | O24: =①データの入力!M79 -> 0 | P24: =①データの入力!N79 -> 0
D25: =①データの入力!I43 -> 0 | J25: A | L25: =①データの入力!I79 -> 0
D26: =①データの入力!J44 -> 0 | E26: =①データの入力!K44 -> 0 | F26: =①データの入力!L44 -> 0 | G26: =①データの入力!M44 -> 0 | H26: =①データの入力!N44 -> 0 | K26: =①データの入力!H80 -> 0 | L26: =①データの入力!J80 -> 0 | M26: =①データの入力!K80 -> 0 | N26: =①データの入力!L80 -> 0 | O26: =①データの入力!M80 -> 0 | P26: =①データの入力!N80 -> 0
D27: =①データの入力!I44 -> 0 | K27: =①データの入力!I83 -> 0 | L27: =①データの入力!I80 -> 0
D28: =①データの入力!J45 -> 0 | E28: =①データの入力!K45 -> 0 | F28: =①データの入力!L45 -> 0 | G28: =①データの入力!M45 -> 0 | H28: =①データの入力!N45 -> 0 | K28: =①データの入力!H81 -> 0 | L28: =①データの入力!J81 -> 0 | M28: =①データの入力!K81 -> 0 | N28: =①データの入力!L81 -> 0 | O28: =①データの入力!M81 -> 0 | P28: =①データの入力!N81 -> 0
D29: =①データの入力!I45 -> 0 | K29: =①データの入力!I86 -> 0 | L29: =①データの入力!I81 -> 0
B30: ＣまたはＤ | D30: =①データの入力!J46 -> 0 | E30: =①データの入力!K46 -> 0 | F30: =①データの入力!L46 -> 0 | G30: =①データの入力!M46 -> 0 | H30: =①データの入力!N46 -> 0 | K30: =①データの入力!H82 -> 0 | L30: =①データの入力!J82 -> 0 | M30: =①データの入力!K82 -> 0 | N30: =①データの入力!L82 -> 0 | O30: =①データの入力!M82 -> 0 | P30: =①データの入力!N82 -> 0
D31: =①データの入力!I46 -> 0 | J31: Ｂ | L31: =①データの入力!I82 -> 0
D32: =①データの入力!J47 -> 0 | E32: =①データの入力!K47 -> 0 | F32: =①データの入力!L47 -> 0 | G32: =①データの入力!M47 -> 0 | H32: =①データの入力!N47 -> 0 | K32: =①データの入力!H83 -> 0 | L32: =①データの入力!J83 -> 0 | M32: =①データの入力!K83 -> 0 | N32: =①データの入力!L83 -> 0 | O32: =①データの入力!M83 -> 0 | P32: =①データの入力!N83 -> 0
D33: =①データの入力!I47 -> 0 | K33: =①データの入力!I89 -> 0 | L33: =①データの入力!I83 -> 0
D34: =①データの入力!J48 -> 0 | E34: =①データの入力!K48 -> 0 | F34: =①データの入力!L48 -> 0 | G34: =①データの入力!M48 -> 0 | H34: =①データの入力!N48 -> 0 | K34: =①データの入力!H84 -> 0 | L34: =①データの入力!J84 -> 0 | M34: =①データの入力!K84 -> 0 | N34: =①データの入力!L84 -> 0 | O34: =①データの入力!M84 -> 0 | P34: =①データの入力!N84 -> 0
D35: =①データの入力!I48 -> 0 | K35: =①データの入力!I91 -> 0 | L35: =①データの入力!I84 -> 0
D36: =①データの入力!J49 -> 0 | E36: =①データの入力!K49 -> 0 | F36: =①データの入力!L49 -> 0 | G36: =①データの入力!M49 -> 0 | H36: =①データの入力!N49 -> 0 | K36: =①データの入力!H85 -> 0 | L36: =①データの入力!J85 -> 0 | M36: =①データの入力!K85 -> 0 | N36: =①データの入力!L85 -> 0 | O36: =①データの入力!M85 -> 0 | P36: =①データの入力!N85 -> 0
D37: =①データの入力!I49 -> 0 | J37: C | L37: =①データの入力!I85 -> 0
K38: =①データの入力!H86 -> 0 | L38: =①データの入力!J86 -> 0 | M38: =①データの入力!K86 -> 0 | N38: =①データの入力!L86 -> 0 | O38: =①データの入力!M86 -> 0 | P38: =①データの入力!N86 -> 0
K39: =①データの入力!I93 -> 0 | L39: =①データの入力!I86 -> 0
K40: =①データの入力!H87 -> 0 | L40: =①データの入力!J87 -> 0 | M40: =①データの入力!K87 -> 0 | N40: =①データの入力!L87 -> 0 | O40: =①データの入力!M87 -> 0 | P40: =①データの入力!N87 -> 0
K41: =①データの入力!I95 -> 0 | L41: =①データの入力!I87 -> 0
K42: =①データの入力!H88 -> 0 | L42: =①データの入力!J88 -> 0 | M42: =①データの入力!K88 -> 0 | N42: =①データの入力!L88 -> 0 | O42: =①データの入力!M88 -> 0 | P42: =①データの入力!N88 -> 0
J43: Ｄ | L43: =①データの入力!I88 -> 0
K44: =①データの入力!H89 -> 0 | L44: =①データの入力!J89 -> 0 | M44: =①データの入力!K89 -> 0 | N44: =①データの入力!L89 -> 0 | O44: =①データの入力!M89 -> 0 | P44: =①データの入力!N89 -> 0
...

Sheet ③印刷(Ｓ，Ｄともｼｰﾄﾞあり)
B1: ='②印刷(Ｓ，Ｄともシードなし）'!B1 -> 令和８年度春季高等学校総合体育大会卓球競技参加申込書
B3: =①データの入力!I13 -> 0 | O3: 校長 氏名 | P3: =①データの入力!I15 -> 0 | T3: 印
B4: 学校名 | D4: =①データの入力!I14 -> #N/A | E4: 高等学校
O5: 顧問 氏名 | P5: =①データの入力!I16 -> 0 | T5: 印
B7: 女 子
B9: １．学校対抗
D10: 選手氏名（ふりがな） | E10: 生年月日 | H10: 学年 | N10: 選手氏名（ふりがな） | P10: 生年月日 | S10: 学年
B11: 監督 | D11: =①データの入力!J23 -> 0 | E11: =①データの入力!K23 -> 0 | F11: =①データの入力!L23 -> 0 | G11: =①データの入力!M23 -> 0 | I11: ４ | N11: =①データの入力!J27 -> 0 | P11: =①データの入力!K27 -> 0 | Q11: =①データの入力!L27 -> 0 | R11: =①データの入力!M27 -> 0 | S11: =①データの入力!N27 -> 0
D12: =①データの入力!I23 -> 0 | N12: =①データの入力!I27 -> 0
B13: １ | D13: =①データの入力!J24 -> 0 | E13: =①データの入力!K24 -> 0 | F13: =①データの入力!L24 -> 0 | G13: =①データの入力!M24 -> 0 | H13: =①データの入力!N24 -> 0 | I13: ５ | N13: =①データの入力!J28 -> 0 | P13: =①データの入力!K28 -> 0 | Q13: =①データの入力!L28 -> 0 | R13: =①データの入力!M28 -> 0 | S13: =①データの入力!N28 -> 0
D14: =①データの入力!I24 -> 0 | N14: =①データの入力!I28 -> 0
B15: ２ | D15: =①データの入力!J25 -> 0 | E15: =①データの入力!K25 -> 0 | F15: =①データの入力!L25 -> 0 | G15: =①データの入力!M25 -> 0 | H15: =①データの入力!N25 -> 0 | I15: ６ | N15: =①データの入力!J29 -> 0 | P15: =①データの入力!K29 -> 0 | Q15: =①データの入力!L29 -> 0 | R15: =①データの入力!M29 -> 0 | S15: =①データの入力!N29 -> 0
D16: =①データの入力!I25 -> 0 | N16: =①データの入力!I29 -> 0
B17: ３ | D17: =①データの入力!J26 -> 0 | E17: =①データの入力!K26 -> 0 | F17: =①データの入力!L26 -> 0 | G17: =①データの入力!M26 -> 0 | H17: =①データの入力!N26 -> 0 | I17: ７ | N17: =①データの入力!J30 -> 0 | P17: =①データの入力!K30 -> 0 | Q17: =①データの入力!L30 -> 0 | R17: =①データの入力!M30 -> 0 | S17: =①データの入力!N30 -> 0
D18: =①データの入力!I26 -> 0 | N18: =①データの入力!I30 -> 0
B21: ２．ダブルス（シードあり） | J21: ３．シングルス（シードあり）
C22: ◎ | D22: 選手氏名（ふりがな） | E22: 生年月日 | H22: 学年 | N22: ◎ | O22: 選手氏名（ふりがな） | P22: 生年月日 | S22: 学年
B23: 「ＡまたはＢ」あるいは「ＣまたはＤ」 | C23: =①データの入力!H56 -> 0 | D23: =①データの入力!J56 -> 0 | E23: =①データの入力!K56 -> 0 | F23: =①データの入力!L56 -> 0 | G23: =①データの入力!M56 -> 0 | H23: =①データの入力!N56 -> 0 | J23: Ａ | K23: Ｂ | L23: Ｃ | M23: Ｄ | N23: =①データの入力!H98 -> 0 | O23: =①データの入力!J98 -> 0 | P23: =①データの入力!K98 -> 0 | Q23: =①データの入力!L98 -> 0 | R23: =①データの入力!M98 -> 0 | S23: =①データの入力!N98 -> 0
D24: =①データの入力!I56 -> 0 | O24: =①データの入力!I98 -> 0
D25: =①データの入力!J57 -> 0 | E25: =①データの入力!K57 -> 0 | F25: =①データの入力!L57 -> 0 | G25: =①データの入力!M57 -> 0 | H25: =①データの入力!N57 -> 0 | N25: =①データの入力!H99 -> 0 | O25: =①データの入力!J99 -> 0 | P25: =①データの入力!K99 -> 0 | Q25: =①データの入力!L99 -> 0 | R25: =①データの入力!M99 -> 0 | S25: =①データの入力!N99 -> 0
D26: =①データの入力!I57 -> 0 | O26: =①データの入力!I99 -> 0
C27: =①データの入力!H58 -> 0 | D27: =①データの入力!J58 -> 0 | E27: =①データの入力!K58 -> 0 | F27: =①データの入力!L58 -> 0 | G27: =①データの入力!M58 -> 0 | H27: =①データの入力!N58 -> 0 | N27: =①データの入力!H100 -> 0 | O27: =①データの入力!J100 -> 0 | P27: =①データの入力!K100 -> 0 | Q27: =①データの入力!L100 -> 0 | R27: =①データの入力!M100 -> 0 | S27: =①データの入力!N100 -> 0
D28: =①データの入力!I58 -> 0 | O28: =①データの入力!I100 -> 0
D29: =①データの入力!J59 -> 0 | E29: =①データの入力!K59 -> 0 | F29: =①データの入力!L59 -> 0 | G29: =①データの入力!M59 -> 0 | H29: =①データの入力!N59 -> 0 | N29: =①データの入力!H101 -> 0 | O29: =①データの入力!J101 -> 0 | P29: =①データの入力!K101 -> 0 | Q29: =①データの入力!L101 -> 0 | R29: =①データの入力!M101 -> 0 | S29: =①データの入力!N101 -> 0
D30: =①データの入力!I59 -> 0 | O30: =①データの入力!I101 -> 0
C31: =①データの入力!H60 -> 0 | D31: =①データの入力!J60 -> 0 | E31: =①データの入力!K60 -> 0 | F31: =①データの入力!L60 -> 0 | G31: =①データの入力!M60 -> 0 | H31: =①データの入力!N60 -> 0 | J31: Ｂ | K31: Ａ | L31: Ｄ | M31: Ｃ | N31: =①データの入力!H102 -> 0 | O31: =①データの入力!J102 -> 0 | P31: =①データの入力!K102 -> 0 | Q31: =①データの入力!L102 -> 0 | R31: =①データの入力!M102 -> 0 | S31: =①データの入力!N102 -> 0
D32: =①データの入力!I60 -> 0 | O32: =①データの入力!I102 -> 0
D33: =①データの入力!J61 -> 0 | E33: =①データの入力!K61 -> 0 | F33: =①データの入力!L61 -> 0 | G33: =①データの入力!M61 -> 0 | H33: =①データの入力!N61 -> 0 | N33: =①データの入力!H103 -> 0 | O33: =①データの入力!J103 -> 0 | P33: =①データの入力!K103 -> 0 | Q33: =①データの入力!L103 -> 0 | R33: =①データの入力!M103 -> 0 | S33: =①データの入力!N103 -> 0
D34: =①データの入力!I61 -> 0 | O34: =①データの入力!I103 -> 0
C35: =①データの入力!H62 -> 0 | D35: =①データの入力!J62 -> 0 | E35: =①データの入力!K62 -> 0 | F35: =①データの入力!L62 -> 0 | G35: =①データの入力!M62 -> 0 | H35: =①データの入力!N62 -> 0 | N35: =①データの入力!H104 -> 0 | O35: =①データの入力!J104 -> 0 | P35: =①データの入力!K104 -> 0 | Q35: =①データの入力!L104 -> 0 | R35: =①データの入力!M104 -> 0 | S35: =①データの入力!N104 -> 0
D36: =①データの入力!I62 -> 0 | O36: =①データの入力!I104 -> 0
D37: =①データの入力!J63 -> 0 | E37: =①データの入力!K63 -> 0 | F37: =①データの入力!L63 -> 0 | G37: =①データの入力!M63 -> 0 | H37: =①データの入力!N63 -> 0 | N37: =①データの入力!H105 -> 0 | O37: =①データの入力!J105 -> 0 | P37: =①データの入力!K105 -> 0 | Q37: =①データの入力!L105 -> 0 | R37: =①データの入力!M105 -> 0 | S37: =①データの入力!N105 -> 0
D38: =①データの入力!I63 -> 0 | O38: =①データの入力!I105 -> 0
B39: 「ＣまたはＤ」あるいは「ＡまたはＢ」 | C39: =①データの入力!H64 -> 0 | D39: =①データの入力!J64 -> 0 | E39: =①データの入力!K64 -> 0 | F39: =①データの入力!L64 -> 0 | G39: =①データの入力!M64 -> 0 | H39: =①データの入力!N64 -> 0 | J39: Ｃ | K39: Ｄ | L39: Ａ | M39: Ｂ | N39: =①データの入力!H106 -> 0 | O39: =①データの入力!J106 -> 0 | P39: =①データの入力!K106 -> 0 | Q39: =①データの入力!L106 -> 0 | R39: =①データの入力!M106 -> 0 | S39: =①データの入力!N106 -> 0
D40: =①データの入力!I64 -> 0 | O40: =①データの入力!I106 -> 0
D41: =①データの入力!J65 -> 0 | E41: =①データの入力!K65 -> 0 | F41: =①データの入力!L65 -> 0 | G41: =①データの入力!M65 -> 0 | H41: =①データの入力!N65 -> 0 | N41: =①データの入力!H107 -> 0 | O41: =①データの入力!J107 -> 0 | P41: =①データの入力!K107 -> 0 | Q41: =①データの入力!L107 -> 0 | R41: =①データの入力!M107 -> 0 | S41: =①データの入力!N107 -> 0
D42: =①データの入力!I65 -> 0 | O42: =①データの入力!I107 -> 0
C43: =①データの入力!H66 -> 0 | D43: =①データの入力!J66 -> 0 | E43: =①データの入力!K66 -> 0 | F43: =①データの入力!L66 -> 0 | G43: =①データの入力!M66 -> 0 | H43: =①データの入力!N66 -> 0 | N43: =①データの入力!H108 -> 0 | O43: =①データの入力!J108 -> 0 | P43: =①データの入力!K108 -> 0 | Q43: =①データの入力!L108 -> 0 | R43: =①データの入力!M108 -> 0 | S43: =①データの入力!N108 -> 0
D44: =①データの入力!I66 -> 0 | O44: =①データの入力!I108 -> 0
D45: =①データの入力!J67 -> 0 | E45: =①データの入力!K67 -> 0 | F45: =①データの入力!L67 -> 0 | G45: =①データの入力!M67 -> 0 | H45: =①データの入力!N67 -> 0 | N45: =①データの入力!H109 -> 0 | O45: =①データの入力!J109 -> 0 | P45: =①データの入力!K109 -> 0 | Q45: =①データの入力!L109 -> 0 | R45: =①データの入力!M109 -> 0 | S45: =①データの入力!N109 -> 0
...

Sheet ④印刷(Ｓあり，Ｄなし)
B1: ='②印刷(Ｓ，Ｄともシードなし）'!B1 -> 令和８年度春季高等学校総合体育大会卓球競技参加申込書
B3: =①データの入力!I13 -> 0 | O3: 校長 氏名 | P3: =①データの入力!I15 -> 0 | T3: 印
B4: 学校名 | D4: =①データの入力!I14 -> #N/A | E4: 高等学校
O5: 顧問 氏名 | P5: =①データの入力!I16 -> 0 | T5: 印
B7: 女 子
B9: １．学校対抗
D10: 選手氏名（ふりがな） | E10: 生年月日 | H10: 学年 | N10: 選手氏名（ふりがな） | P10: 生年月日 | S10: 学年
B11: 監督 | D11: =①データの入力!J23 -> 0 | E11: =①データの入力!K23 -> 0 | F11: =①データの入力!L23 -> 0 | G11: =①データの入力!M23 -> 0 | I11: ４ | N11: =①データの入力!J27 -> 0 | P11: =①データの入力!K27 -> 0 | Q11: =①データの入力!L27 -> 0 | R11: =①データの入力!M27 -> 0 | S11: =①データの入力!N27 -> 0
D12: =①データの入力!I23 -> 0 | N12: =①データの入力!I27 -> 0
B13: １ | D13: =①データの入力!J24 -> 0 | E13: =①データの入力!K24 -> 0 | F13: =①データの入力!L24 -> 0 | G13: =①データの入力!M24 -> 0 | H13: =①データの入力!N24 -> 0 | I13: ５ | N13: =①データの入力!J28 -> 0 | P13: =①データの入力!K28 -> 0 | Q13: =①データの入力!L28 -> 0 | R13: =①データの入力!M28 -> 0 | S13: =①データの入力!N28 -> 0
D14: =①データの入力!I24 -> 0 | N14: =①データの入力!I28 -> 0
B15: ２ | D15: =①データの入力!J25 -> 0 | E15: =①データの入力!K25 -> 0 | F15: =①データの入力!L25 -> 0 | G15: =①データの入力!M25 -> 0 | H15: =①データの入力!N25 -> 0 | I15: ６ | N15: =①データの入力!J29 -> 0 | P15: =①データの入力!K29 -> 0 | Q15: =①データの入力!L29 -> 0 | R15: =①データの入力!M29 -> 0 | S15: =①データの入力!N29 -> 0
D16: =①データの入力!I25 -> 0 | N16: =①データの入力!I29 -> 0
B17: ３ | D17: =①データの入力!J26 -> 0 | E17: =①データの入力!K26 -> 0 | F17: =①データの入力!L26 -> 0 | G17: =①データの入力!M26 -> 0 | H17: =①データの入力!N26 -> 0 | I17: ７ | N17: =①データの入力!J30 -> 0 | P17: =①データの入力!K30 -> 0 | Q17: =①データの入力!L30 -> 0 | R17: =①データの入力!M30 -> 0 | S17: =①データの入力!N30 -> 0
D18: =①データの入力!I26 -> 0 | N18: =①データの入力!I30 -> 0
B20: ２．ダブルス | J20: ３．シングルス（シードあり）
B21: ゾーン | D21: 選手氏名（ふりがな） | E21: 生年月日 | H21: 学年 | N21: ◎ | O21: 選手氏名（ふりがな） | P21: 生年月日 | S21: 学年
B22: ＡまたはＢ | D22: =①データの入力!J42 -> 0 | E22: =①データの入力!K42 -> 0 | F22: =①データの入力!L42 -> 0 | G22: =①データの入力!M42 -> 0 | H22: =①データの入力!N42 -> 0 | J22: Ａ | K22: Ｂ | L22: Ｃ | M22: Ｄ | N22: =①データの入力!H98 -> 0 | O22: =①データの入力!J98 -> 0 | P22: =①データの入力!K98 -> 0 | Q22: =①データの入力!L98 -> 0 | R22: =①データの入力!M98 -> 0 | S22: =①データの入力!N98 -> 0
D23: =①データの入力!I42 -> 0 | O23: =①データの入力!I98 -> 0
D24: =①データの入力!J43 -> 0 | E24: =①データの入力!K43 -> 0 | F24: =①データの入力!L43 -> 0 | G24: =①データの入力!M43 -> 0 | H24: =①データの入力!N43 -> 0 | N24: =①データの入力!H99 -> 0 | O24: =①データの入力!J99 -> 0 | P24: =①データの入力!K99 -> 0 | Q24: =①データの入力!L99 -> 0 | R24: =①データの入力!M99 -> 0 | S24: =①データの入力!N99 -> 0
D25: =①データの入力!I43 -> 0 | O25: =①データの入力!I99 -> 0
D26: =①データの入力!J44 -> 0 | E26: =①データの入力!K44 -> 0 | F26: =①データの入力!L44 -> 0 | G26: =①データの入力!M44 -> 0 | H26: =①データの入力!N44 -> 0 | N26: =①データの入力!H100 -> 0 | O26: =①データの入力!J100 -> 0 | P26: =①データの入力!K100 -> 0 | Q26: =①データの入力!L100 -> 0 | R26: =①データの入力!M100 -> 0 | S26: =①データの入力!N100 -> 0
D27: =①データの入力!I44 -> 0 | O27: =①データの入力!I100 -> 0
D28: =①データの入力!J45 -> 0 | E28: =①データの入力!K45 -> 0 | F28: =①データの入力!L45 -> 0 | G28: =①データの入力!M45 -> 0 | H28: =①データの入力!N45 -> 0 | N28: =①データの入力!H101 -> 0 | O28: =①データの入力!J101 -> 0 | P28: =①データの入力!K101 -> 0 | Q28: =①データの入力!L101 -> 0 | R28: =①データの入力!M101 -> 0 | S28: =①データの入力!N101 -> 0
D29: =①データの入力!I45 -> 0 | O29: =①データの入力!I101 -> 0
B30: ＣまたはＤ | D30: =①データの入力!J46 -> 0 | E30: =①データの入力!K46 -> 0 | F30: =①データの入力!L46 -> 0 | G30: =①データの入力!M46 -> 0 | H30: =①データの入力!N46 -> 0 | J30: Ｂ | K30: Ａ | L30: Ｄ | M30: Ｃ | N30: =①データの入力!H102 -> 0 | O30: =①データの入力!J102 -> 0 | P30: =①データの入力!K102 -> 0 | Q30: =①データの入力!L102 -> 0 | R30: =①データの入力!M102 -> 0 | S30: =①データの入力!N102 -> 0
D31: =①データの入力!I46 -> 0 | O31: =①データの入力!I102 -> 0
D32: =①データの入力!J47 -> 0 | E32: =①データの入力!K47 -> 0 | F32: =①データの入力!L47 -> 0 | G32: =①データの入力!M47 -> 0 | H32: =①データの入力!N47 -> 0 | N32: =①データの入力!H103 -> 0 | O32: =①データの入力!J103 -> 0 | P32: =①データの入力!K103 -> 0 | Q32: =①データの入力!L103 -> 0 | R32: =①データの入力!M103 -> 0 | S32: =①データの入力!N103 -> 0
D33: =①データの入力!I47 -> 0 | O33: =①データの入力!I103 -> 0
D34: =①データの入力!J48 -> 0 | E34: =①データの入力!K48 -> 0 | F34: =①データの入力!L48 -> 0 | G34: =①データの入力!M48 -> 0 | H34: =①データの入力!N48 -> 0 | N34: =①データの入力!H104 -> 0 | O34: =①データの入力!J104 -> 0 | P34: =①データの入力!K104 -> 0 | Q34: =①データの入力!L104 -> 0 | R34: =①データの入力!M104 -> 0 | S34: =①データの入力!N104 -> 0
D35: =①データの入力!I48 -> 0 | O35: =①データの入力!I104 -> 0
D36: =①データの入力!J49 -> 0 | E36: =①データの入力!K49 -> 0 | F36: =①データの入力!L49 -> 0 | G36: =①データの入力!M49 -> 0 | H36: =①データの入力!N49 -> 0 | N36: =①データの入力!H105 -> 0 | O36: =①データの入力!J105 -> 0 | P36: =①データの入力!K105 -> 0 | Q36: =①データの入力!L105 -> 0 | R36: =①データの入力!M105 -> 0 | S36: =①データの入力!N105 -> 0
D37: =①データの入力!I49 -> 0 | O37: =①データの入力!I105 -> 0
J38: Ｃ | K38: Ｄ | L38: Ａ | M38: Ｂ | N38: =①データの入力!H106 -> 0 | O38: =①データの入力!J106 -> 0 | P38: =①データの入力!K106 -> 0 | Q38: =①データの入力!L106 -> 0 | R38: =①データの入力!M106 -> 0 | S38: =①データの入力!N106 -> 0
O39: =①データの入力!I106 -> 0
N40: =①データの入力!H107 -> 0 | O40: =①データの入力!J107 -> 0 | P40: =①データの入力!K107 -> 0 | Q40: =①データの入力!L107 -> 0 | R40: =①データの入力!M107 -> 0 | S40: =①データの入力!N107 -> 0
O41: =①データの入力!I107 -> 0
N42: =①データの入力!H108 -> 0 | O42: =①データの入力!J108 -> 0 | P42: =①データの入力!K108 -> 0 | Q42: =①データの入力!L108 -> 0 | R42: =①データの入力!M108 -> 0 | S42: =①データの入力!N108 -> 0
O43: =①データの入力!I108 -> 0
N44: =①データの入力!H109 -> 0 | O44: =①データの入力!J109 -> 0 | P44: =①データの入力!K109 -> 0 | Q44: =①データの入力!L109 -> 0 | R44: =①データの入力!M109 -> 0 | S44: =①データの入力!N109 -> 0
...

Sheet ⑤印刷(Ｓなし，Ｄあり）
B1: ='②印刷(Ｓ，Ｄともシードなし）'!B1 -> 令和８年度春季高等学校総合体育大会卓球競技参加申込書
B3: =①データの入力!I13 -> 0 | L3: 校長 氏名 | M3: =①データの入力!I15 -> 0 | Q3: 印
B4: 学校名 | D4: =①データの入力!I14 -> #N/A | E4: 高等学校
L5: 顧問 氏名 | M5: =①データの入力!I16 -> 0 | Q5: 印
B7: 女 子
B9: １．学校対抗
D10: 選手氏名（ふりがな） | E10: 生年月日 | H10: 学年 | L10: 選手氏名（ふりがな） | M10: 生年月日 | P10: 学年
B11: 監督 | D11: =①データの入力!J23 -> 0 | E11: =①データの入力!K23 -> 0 | F11: =①データの入力!L23 -> 0 | G11: =①データの入力!M23 -> 0 | I11: ４ | L11: =①データの入力!J27 -> 0 | M11: =①データの入力!K27 -> 0 | N11: =①データの入力!L27 -> 0 | O11: =①データの入力!M27 -> 0 | P11: =①データの入力!N27 -> 0
D12: =①データの入力!I23 -> 0 | L12: =①データの入力!I27 -> 0
B13: １ | D13: =①データの入力!J24 -> 0 | E13: =①データの入力!K24 -> 0 | F13: =①データの入力!L24 -> 0 | G13: =①データの入力!M24 -> 0 | H13: =①データの入力!N24 -> 0 | I13: ５ | L13: =①データの入力!J28 -> 0 | M13: =①データの入力!K28 -> 0 | N13: =①データの入力!L28 -> 0 | O13: =①データの入力!M28 -> 0 | P13: =①データの入力!N28 -> 0
D14: =①データの入力!I24 -> 0 | L14: =①データの入力!I28 -> 0
B15: ２ | D15: =①データの入力!J25 -> 0 | E15: =①データの入力!K25 -> 0 | F15: =①データの入力!L25 -> 0 | G15: =①データの入力!M25 -> 0 | H15: =①データの入力!N25 -> 0 | I15: ６ | L15: =①データの入力!J29 -> 0 | M15: =①データの入力!K29 -> 0 | N15: =①データの入力!L29 -> 0 | O15: =①データの入力!M29 -> 0 | P15: =①データの入力!N29 -> 0
D16: =①データの入力!I25 -> 0 | L16: =①データの入力!I29 -> 0
B17: ３ | D17: =①データの入力!J26 -> 0 | E17: =①データの入力!K26 -> 0 | F17: =①データの入力!L26 -> 0 | G17: =①データの入力!M26 -> 0 | H17: =①データの入力!N26 -> 0 | I17: ７ | L17: =①データの入力!J30 -> 0 | M17: =①データの入力!K30 -> 0 | N17: =①データの入力!L30 -> 0 | O17: =①データの入力!M30 -> 0 | P17: =①データの入力!N30 -> 0
D18: =①データの入力!I26 -> 0 | L18: =①データの入力!I30 -> 0
B19: ２．ダブルス（シードあり） | J19: ３．シングルス
C20: ◎ | D20: 選手氏名（ふりがな） | E20: 生年月日 | H20: 学年 | J20: ゾーン | K20: ○ | L20: 選手氏名（ふりがな） | M20: 生年月日 | P20: 学年
B21: 「ＡまたはＢ」あるいは「ＣまたはＤ」 | C21: =①データの入力!H56 -> 0 | D21: =①データの入力!J56 -> 0 | E21: =①データの入力!K56 -> 0 | F21: =①データの入力!L56 -> 0 | G21: =①データの入力!M56 -> 0 | H21: =①データの入力!N56 -> 0 | K21: =①データの入力!H78 -> 0 | L21: =①データの入力!J78 -> 0 | M21: =①データの入力!K78 -> 0 | N21: =①データの入力!L78 -> 0 | O21: =①データの入力!M78 -> 0 | P21: =①データの入力!N78 -> 0
D22: =①データの入力!I56 -> 0 | K22: =①データの入力!I80 -> 0 | L22: =①データの入力!I78 -> 0
D23: =①データの入力!J57 -> 0 | E23: =①データの入力!K57 -> 0 | F23: =①データの入力!L57 -> 0 | G23: =①データの入力!M57 -> 0 | H23: =①データの入力!N57 -> 0 | K23: =①データの入力!H79 -> 0 | L23: =①データの入力!J79 -> 0 | M23: =①データの入力!K79 -> 0 | N23: =①データの入力!L79 -> 0 | O23: =①データの入力!M79 -> 0 | P23: =①データの入力!N79 -> 0
D24: =①データの入力!I57 -> 0 | J24: A | L24: =①データの入力!I79 -> 0
C25: =①データの入力!H58 -> 0 | D25: =①データの入力!J58 -> 0 | E25: =①データの入力!K58 -> 0 | F25: =①データの入力!L58 -> 0 | G25: =①データの入力!M58 -> 0 | H25: =①データの入力!N58 -> 0 | K25: =①データの入力!H80 -> 0 | L25: =①データの入力!J80 -> 0 | M25: =①データの入力!K80 -> 0 | N25: =①データの入力!L80 -> 0 | O25: =①データの入力!M80 -> 0 | P25: =①データの入力!N80 -> 0
D26: =①データの入力!I58 -> 0 | K26: =①データの入力!I83 -> 0 | L26: =①データの入力!I80 -> 0
D27: =①データの入力!J59 -> 0 | E27: =①データの入力!K59 -> 0 | F27: =①データの入力!L59 -> 0 | G27: =①データの入力!M59 -> 0 | H27: =①データの入力!N59 -> 0 | K27: =①データの入力!H81 -> 0 | L27: =①データの入力!J81 -> 0 | M27: =①データの入力!K81 -> 0 | N27: =①データの入力!L81 -> 0 | O27: =①データの入力!M81 -> 0 | P27: =①データの入力!N81 -> 0
D28: =①データの入力!I59 -> 0 | K28: =①データの入力!I86 -> 0 | L28: =①データの入力!I81 -> 0
C29: =①データの入力!H60 -> 0 | D29: =①データの入力!J60 -> 0 | E29: =①データの入力!K60 -> 0 | F29: =①データの入力!L60 -> 0 | G29: =①データの入力!M60 -> 0 | H29: =①データの入力!N60 -> 0 | K29: =①データの入力!H82 -> 0 | L29: =①データの入力!J82 -> 0 | M29: =①データの入力!K82 -> 0 | N29: =①データの入力!L82 -> 0 | O29: =①データの入力!M82 -> 0 | P29: =①データの入力!N82 -> 0
D30: =①データの入力!I60 -> 0 | J30: Ｂ | L30: =①データの入力!I82 -> 0
D31: =①データの入力!J61 -> 0 | E31: =①データの入力!K61 -> 0 | F31: =①データの入力!L61 -> 0 | G31: =①データの入力!M61 -> 0 | H31: =①データの入力!N61 -> 0 | K31: =①データの入力!H83 -> 0 | L31: =①データの入力!J83 -> 0 | M31: =①データの入力!K83 -> 0 | N31: =①データの入力!L83 -> 0 | O31: =①データの入力!M83 -> 0 | P31: =①データの入力!N83 -> 0
D32: =①データの入力!I61 -> 0 | K32: =①データの入力!I89 -> 0 | L32: =①データの入力!I83 -> 0
C33: =①データの入力!H62 -> 0 | D33: =①データの入力!J62 -> 0 | E33: =①データの入力!K62 -> 0 | F33: =①データの入力!L62 -> 0 | G33: =①データの入力!M62 -> 0 | H33: =①データの入力!N62 -> 0 | K33: =①データの入力!H84 -> 0 | L33: =①データの入力!J84 -> 0 | M33: =①データの入力!K84 -> 0 | N33: =①データの入力!L84 -> 0 | O33: =①データの入力!M84 -> 0 | P33: =①データの入力!N84 -> 0
D34: =①データの入力!I62 -> 0 | K34: =①データの入力!I91 -> 0 | L34: =①データの入力!I84 -> 0
D35: =①データの入力!J63 -> 0 | E35: =①データの入力!K63 -> 0 | F35: =①データの入力!L63 -> 0 | G35: =①データの入力!M63 -> 0 | H35: =①データの入力!N63 -> 0 | K35: =①データの入力!H85 -> 0 | L35: =①データの入力!J85 -> 0 | M35: =①データの入力!K85 -> 0 | N35: =①データの入力!L85 -> 0 | O35: =①データの入力!M85 -> 0 | P35: =①データの入力!N85 -> 0
D36: =①データの入力!I63 -> 0 | J36: C | L36: =①データの入力!I85 -> 0
B37: 「ＣまたはＤ」あるいは「ＡまたはＢ」 | C37: =①データの入力!H64 -> 0 | D37: =①データの入力!J64 -> 0 | E37: =①データの入力!K64 -> 0 | F37: =①データの入力!L64 -> 0 | G37: =①データの入力!M64 -> 0 | H37: =①データの入力!N64 -> 0 | K37: =①データの入力!H86 -> 0 | L37: =①データの入力!J86 -> 0 | M37: =①データの入力!K86 -> 0 | N37: =①データの入力!L86 -> 0 | O37: =①データの入力!M86 -> 0 | P37: =①データの入力!N86 -> 0
D38: =①データの入力!I64 -> 0 | K38: =①データの入力!I93 -> 0 | L38: =①データの入力!I86 -> 0
D39: =①データの入力!J65 -> 0 | E39: =①データの入力!K65 -> 0 | F39: =①データの入力!L65 -> 0 | G39: =①データの入力!M65 -> 0 | H39: =①データの入力!N65 -> 0 | K39: =①データの入力!H87 -> 0 | L39: =①データの入力!J87 -> 0 | M39: =①データの入力!K87 -> 0 | N39: =①データの入力!L87 -> 0 | O39: =①データの入力!M87 -> 0 | P39: =①データの入力!N87 -> 0
D40: =①データの入力!I65 -> 0 | K40: =①データの入力!I95 -> 0 | L40: =①データの入力!I87 -> 0
C41: =①データの入力!H66 -> 0 | D41: =①データの入力!J66 -> 0 | E41: =①データの入力!K66 -> 0 | F41: =①データの入力!L66 -> 0 | G41: =①データの入力!M66 -> 0 | H41: =①データの入力!N66 -> 0 | K41: =①データの入力!H88 -> 0 | L41: =①データの入力!J88 -> 0 | M41: =①データの入力!K88 -> 0 | N41: =①データの入力!L88 -> 0 | O41: =①データの入力!M88 -> 0 | P41: =①データの入力!N88 -> 0
D42: =①データの入力!I66 -> 0 | J42: Ｄ | L42: =①データの入力!I88 -> 0
D43: =①データの入力!J67 -> 0 | E43: =①データの入力!K67 -> 0 | F43: =①データの入力!L67 -> 0 | G43: =①データの入力!M67 -> 0 | H43: =①データの入力!N67 -> 0 | K43: =①データの入力!H89 -> 0 | L43: =①データの入力!J89 -> 0 | M43: =①データの入力!K89 -> 0 | N43: =①データの入力!L89 -> 0 | O43: =①データの入力!M89 -> 0 | P43: =①データの入力!N89 -> 0
...

Sheet 事務局用
B3: シングルス | J3: ダブルス | P3: 学校対抗女子
P4: =①データの入力!I14 -> #N/A
B5: Ａ | C5: =①データの入力!H78 -> 0 | D5: =①データの入力!I78 -> 0 | E5: （ | F5: =①データの入力!I14 -> #N/A | G5: ） | J5: Ａ or Ｂ | K5: =CONCATENATE(①データの入力!I42,K13,①データの入力!I43) -> ・ | L5: （ | M5: =①データの入力!I14 -> #N/A | N5: ） | P5: 監督 | Q5: =①データの入力!I23 -> 0 | R5: 学年
C6: =①データの入力!H79 -> 0 | D6: =①データの入力!I79 -> 0 | E6: （ | F6: =①データの入力!I14 -> #N/A | G6: ） | K6: =CONCATENATE(①データの入力!I44,K13,①データの入力!I45) -> ・ | L6: （ | M6: =①データの入力!I14 -> #N/A | N6: ） | P6: 1 | Q6: =①データの入力!I24 -> 0 | R6: =①データの入力!N24 -> 0
C7: =①データの入力!H80 -> 0 | D7: =①データの入力!I80 -> 0 | E7: （ | F7: =①データの入力!I14 -> #N/A | G7: ） | J7: Ｃ or Ｄ | K7: =CONCATENATE(①データの入力!I46,K13,①データの入力!I47) -> ・ | L7: （ | M7: =①データの入力!I14 -> #N/A | N7: ） | P7: 2 | Q7: =①データの入力!I25 -> 0 | R7: =①データの入力!N25 -> 0
B8: Ｂ | C8: =①データの入力!H81 -> 0 | D8: =①データの入力!I81 -> 0 | E8: （ | F8: =①データの入力!I14 -> #N/A | G8: ） | K8: =CONCATENATE(①データの入力!I48,K13,①データの入力!I49) -> ・ | L8: （ | M8: =①データの入力!I14 -> #N/A | N8: ） | P8: 3 | Q8: =①データの入力!I26 -> 0 | R8: =①データの入力!N26 -> 0
C9: =①データの入力!H82 -> 0 | D9: =①データの入力!I82 -> 0 | E9: （ | F9: =①データの入力!I14 -> #N/A | G9: ） | P9: 4 | Q9: =①データの入力!I27 -> 0 | R9: =①データの入力!N27 -> 0
C10: =①データの入力!H83 -> 0 | D10: =①データの入力!I83 -> 0 | E10: （ | F10: =①データの入力!I14 -> #N/A | G10: ） | P10: 5 | Q10: =①データの入力!I28 -> 0 | R10: =①データの入力!N28 -> 0
B11: Ｃ | C11: =①データの入力!H84 -> 0 | D11: =①データの入力!I84 -> 0 | E11: （ | F11: =①データの入力!I14 -> #N/A | G11: ） | P11: 6 | Q11: =①データの入力!I29 -> 0 | R11: =①データの入力!N29 -> 0
C12: =①データの入力!H85 -> 0 | D12: =①データの入力!I85 -> 0 | E12: （ | F12: =①データの入力!I14 -> #N/A | G12: ） | P12: 7 | Q12: =①データの入力!I30 -> 0 | R12: =①データの入力!N30 -> 0
C13: =①データの入力!H86 -> 0 | D13: =①データの入力!I86 -> 0 | E13: （ | F13: =①データの入力!I14 -> #N/A | G13: ） | K13: ・
B14: Ｄ | C14: =①データの入力!H87 -> 0 | D14: =①データの入力!I87 -> 0 | E14: （ | F14: =①データの入力!I14 -> #N/A | G14: ） | K14: ↑この・を消さないように
C15: =①データの入力!H88 -> 0 | D15: =①データの入力!I88 -> 0 | E15: （ | F15: =①データの入力!I14 -> #N/A | G15: ）
C16: =①データの入力!H89 -> 0 | D16: =①データの入力!I89 -> 0 | E16: （ | F16: =①データの入力!I14 -> #N/A | G16: ）
J17: ◎印がダブルススシード選手
J18: =①データの入力!H56 -> 0 | K18: =CONCATENATE(①データの入力!I56,K13,①データの入力!I57) -> ・ | L18: （ | M18: =①データの入力!I14 -> #N/A | N18: ）
J19: =①データの入力!H58 -> 0 | K19: =CONCATENATE(①データの入力!I58,K13,①データの入力!I59) -> ・ | L19: （ | M19: =①データの入力!I14 -> #N/A | N19: ）
J20: =①データの入力!H60 -> 0 | K20: =CONCATENATE(①データの入力!I60,K13,①データの入力!I61) -> ・ | L20: （ | M20: =①データの入力!I14 -> #N/A | N20: ）
B21: ◎印がシングルスシード選手 | J21: =①データの入力!H62 -> 0 | K21: =CONCATENATE(①データの入力!I62,K13,①データの入力!I63) -> ・ | L21: （ | M21: =①データの入力!I14 -> #N/A | N21: ）
B22: =①データの入力!H98 -> 0 | C22: =①データの入力!H98 -> 0 | D22: =①データの入力!I98 -> 0 | E22: （ | F22: =①データの入力!$I$14 -> #N/A | G22: ） | J22: =①データの入力!H64 -> 0 | K22: =CONCATENATE(①データの入力!I64,K13,①データの入力!I65) -> ・ | L22: （ | M22: =①データの入力!I14 -> #N/A | N22: ）
B23: =①データの入力!H99 -> 0 | C23: =①データの入力!H99 -> 0 | D23: =①データの入力!I99 -> 0 | E23: （ | F23: =①データの入力!$I$14 -> #N/A | G23: ） | J23: =①データの入力!H66 -> 0 | K23: =CONCATENATE(①データの入力!I66,K13,①データの入力!I67) -> ・ | L23: （ | M23: =①データの入力!I14 -> #N/A | N23: ）
B24: =①データの入力!H100 -> 0 | C24: =①データの入力!H100 -> 0 | D24: =①データの入力!I100 -> 0 | E24: （ | F24: =①データの入力!$I$14 -> #N/A | G24: ） | J24: =①データの入力!H68 -> 0 | K24: =CONCATENATE(①データの入力!I68,K13,①データの入力!I69) -> ・ | L24: （ | M24: =①データの入力!I14 -> #N/A | N24: ）
B25: =①データの入力!H101 -> 0 | C25: =①データの入力!H101 -> 0 | D25: =①データの入力!I101 -> 0 | E25: （ | F25: =①データの入力!$I$14 -> #N/A | G25: ） | J25: =①データの入力!H70 -> 0 | K25: =CONCATENATE(①データの入力!I70,K13,①データの入力!I71) -> ・ | L25: （ | M25: =①データの入力!I14 -> #N/A | N25: ）
B26: =①データの入力!H102 -> 0 | C26: =①データの入力!H102 -> 0 | D26: =①データの入力!I102 -> 0 | E26: （ | F26: =①データの入力!$I$14 -> #N/A | G26: ）
B27: =①データの入力!H103 -> 0 | C27: =①データの入力!H103 -> 0 | D27: =①データの入力!I103 -> 0 | E27: （ | F27: =①データの入力!$I$14 -> #N/A | G27: ）
B28: =①データの入力!H104 -> 0 | C28: =①データの入力!H104 -> 0 | D28: =①データの入力!I104 -> 0 | E28: （ | F28: =①データの入力!$I$14 -> #N/A | G28: ）
B29: =①データの入力!H105 -> 0 | C29: =①データの入力!H105 -> 0 | D29: =①データの入力!I105 -> 0 | E29: （ | F29: =①データの入力!$I$14 -> #N/A | G29: ）
B30: =①データの入力!H106 -> 0 | C30: =①データの入力!H106 -> 0 | D30: =①データの入力!I106 -> 0 | E30: （ | F30: =①データの入力!$I$14 -> #N/A | G30: ）
B31: =①データの入力!H107 -> 0 | C31: =①データの入力!H107 -> 0 | D31: =①データの入力!I107 -> 0 | E31: （ | F31: =①データの入力!$I$14 -> #N/A | G31: ）
B32: =①データの入力!H108 -> 0 | C32: =①データの入力!H108 -> 0 | D32: =①データの入力!I108 -> 0 | E32: （ | F32: =①データの入力!$I$14 -> #N/A | G32: ）
B33: =①データの入力!H109 -> 0 | C33: =①データの入力!H109 -> 0 | D33: =①データの入力!I109 -> 0 | E33: （ | F33: =①データの入力!$I$14 -> #N/A | G33: ）
B34: =①データの入力!H110 -> 0 | C34: =①データの入力!H110 -> 0 | D34: =①データの入力!I110 -> 0 | E34: （ | F34: =①データの入力!$I$14 -> #N/A | G34: ）
B35: =①データの入力!H111 -> 0 | C35: =①データの入力!H111 -> 0 | D35: =①データの入力!I111 -> 0 | E35: （ | F35: =①データの入力!$I$14 -> #N/A | G35: ）
B36: =①データの入力!H112 -> 0 | C36: =①データの入力!H112 -> 0 | D36: =①データの入力!I112 -> 0 | E36: （ | F36: =①データの入力!$I$14 -> #N/A | G36: ）
B37: =①データの入力!H113 -> 0 | C37: =①データの入力!H113 -> 0 | D37: =①データの入力!I113 -> 0 | E37: （ | F37: =①データの入力!$I$14 -> #N/A | G37: ）
